BEGIN:VCALENDAR
PRODID:-//kirchenweb.ch gmbh//veranstaltungsausgabe v2.0//DE
VERSION:2.0
METHOD:PUBLISH
BEGIN:VEVENT
DTSTART:20261217T150000Z
DTEND:20261217T154000Z
LOCATION:Rosenau\, Bazenheid\, Spelterinistrasse 8\, 9602 Bazenheid
TRANSP:OPAQUE
SEQUENCE:0
UID:19226-veranstaltung@ref-toggenburg.ch
DTSTAMP:20260325T160741Z
DESCRIPTION:Kontakt: Evang. Pfarramt\n\nWeitere Infos:
  https://www.ref-toggenburg.ch/veranstaltung/19226
SUMMARY:Ökumenische Weihnachtsfeier in der Rosenau (intern)
PRIORITY:5
X-MICROSOFT-CDO-IMPORTANCE:1
CLASS:PUBLIC
END:VEVENT
END:VCALENDAR
