BEGIN:VCALENDAR
PRODID:-//kirchenweb.ch gmbh//veranstaltungsausgabe v2.0//DE
VERSION:2.0
METHOD:PUBLISH
BEGIN:VEVENT
DTSTART;VALUE=DATE:20260930
DTEND;VALUE=DATE:20261001
LOCATION:Vaumarcus\, \,
TRANSP:OPAQUE
SEQUENCE:0
UID:19284-veranstaltung@ref-toggenburg.ch
DTSTAMP:20250813T180615Z
DESCRIPTION:Kontakt: Pfarramt\n\nWeitere Infos:
  https://www.ref-toggenburg.ch/veranstaltung/19284
SUMMARY:Konfirmanden im Konfestival
PRIORITY:5
X-MICROSOFT-CDO-IMPORTANCE:1
CLASS:PUBLIC
END:VEVENT
END:VCALENDAR
