BEGIN:VCALENDAR
PRODID:-//kirchenweb.ch gmbh//veranstaltungsausgabe v2.0//DE
VERSION:2.0
METHOD:PUBLISH
BEGIN:VEVENT
DTSTART:20250919T160000Z
DTEND:20250919T190000Z
LOCATION:Kirchgemeindehaus Bazenheid\, Neugasse 8\, 9602 9602 Bazenheid
TRANSP:OPAQUE
SEQUENCE:0
UID:19303-veranstaltung@ref-toggenburg.ch
DTSTAMP:20250815T115423Z
DESCRIPTION:Die Mitglieder des Gemeinschaftsgarten von Bazenheid feiern
  ihr erstes Erntefest. Bei gutem Wetter draussen im Garten\, bei
  Regenwetter im Kirchgemeindehaus.
 \nhttps://www.refkirchberg.ch/bericht/1251\n\nKontakt: Brigitte Witzig\n
 \nWeitere Infos: https://www.ref-toggenburg.ch/veranstaltung/19303
SUMMARY:Erntefest Gemeinschaftsgarten
PRIORITY:5
X-MICROSOFT-CDO-IMPORTANCE:1
CLASS:PUBLIC
END:VEVENT
END:VCALENDAR
