BEGIN:VCALENDAR
PRODID:-//kirchenweb.ch gmbh//veranstaltungsausgabe v2.0//DE
VERSION:2.0
METHOD:PUBLISH
BEGIN:VEVENT
DTSTART:20251105T191500Z
DTEND:20251105T210000Z
LOCATION:Evang. Kirche Kirchberg\, Rätenbergstrasse 12\, 9533 Kirchberg
TRANSP:OPAQUE
SEQUENCE:0
UID:19314-veranstaltung@ref-toggenburg.ch
DTSTAMP:20250820T113341Z
DESCRIPTION:Kontakt: Brigitte Scheiwiller\n\nWeitere Infos:
  https://www.ref-toggenburg.ch/veranstaltung/19314
SUMMARY:Probe Bäuerinnenchörli
PRIORITY:5
X-MICROSOFT-CDO-IMPORTANCE:1
CLASS:PUBLIC
END:VEVENT
END:VCALENDAR
