BEGIN:VCALENDAR
PRODID:-//kirchenweb.ch gmbh//veranstaltungsausgabe v2.0//DE
VERSION:2.0
METHOD:PUBLISH
BEGIN:VEVENT
DTSTART:20261018T073000Z
DTEND:20261018T083000Z
LOCATION:Evang. Kirche Ganterschwil\, Aewilerstrasse 1\, 9608 Ganterschwil
TRANSP:OPAQUE
SEQUENCE:0
UID:19332-veranstaltung@ref-toggenburg.ch
DTSTAMP:20260413T164942Z
DESCRIPTION:Kontakt: Evang. Pfarramt\n\nWeitere Infos:
  https://www.ref-toggenburg.ch/veranstaltung/19332
SUMMARY:Regio-Gottesdienst in Ganterschwil
PRIORITY:5
X-MICROSOFT-CDO-IMPORTANCE:1
CLASS:PUBLIC
END:VEVENT
END:VCALENDAR
