BEGIN:VCALENDAR
PRODID:-//kirchenweb.ch gmbh//veranstaltungsausgabe v2.0//DE
VERSION:2.0
METHOD:PUBLISH
BEGIN:VEVENT
DTSTART;VALUE=DATE:20260612
DTEND;VALUE=DATE:20260613
LOCATION:Kirchgemeinde\, \,
TRANSP:OPAQUE
SEQUENCE:0
UID:19389-veranstaltung@ref-toggenburg.ch
DTSTAMP:20260218T165057Z
DESCRIPTION:Kontakt: Gerhard Bader\, Pfr.-Stv.\, 0715654727\,
  bader_gerhard@outlook.com\n\nWeitere Infos:
  https://www.ref-toggenburg.ch/veranstaltung/19389
SUMMARY:Stellvertretung Pfarramt 12. - 15. Juni
PRIORITY:5
X-MICROSOFT-CDO-IMPORTANCE:1
CLASS:PUBLIC
END:VEVENT
END:VCALENDAR
