BEGIN:VCALENDAR
PRODID:-//kirchenweb.ch gmbh//veranstaltungsausgabe v2.0//DE
VERSION:2.0
METHOD:PUBLISH
BEGIN:VEVENT
DTSTART:20250903T170000Z
DTEND:20250903T190000Z
LOCATION:Kirchberg\, \,
TRANSP:OPAQUE
SEQUENCE:0
UID:19394-veranstaltung@ref-toggenburg.ch
DTSTAMP:20250902T111227Z
DESCRIPTION:Kontakt: kathi.stiefel@refkirchberg.ch\n\nWeitere Infos:
  https://www.ref-toggenburg.ch/veranstaltung/19394
SUMMARY:Konfirmanden-Unterricht
PRIORITY:5
X-MICROSOFT-CDO-IMPORTANCE:1
CLASS:PUBLIC
END:VEVENT
END:VCALENDAR
