BEGIN:VCALENDAR
PRODID:-//kirchenweb.ch gmbh//veranstaltungsausgabe v2.0//DE
VERSION:2.0
METHOD:PUBLISH
BEGIN:VEVENT
DTSTART:20251025T070000Z
DTEND:20251025T090000Z
LOCATION:Evangelische Kirche\, Raum "Himmel"\, Rätenbergstrasse 12\, 9533
  Kirchberg
TRANSP:OPAQUE
SEQUENCE:0
UID:19495-veranstaltung@ref-toggenburg.ch
DTSTAMP:20250923T082651Z
DESCRIPTION:Wir proben für das Krippenspiel. Es wird im am vierten
  Advent\, am Sonntag\, 22. Dezember um 16:30 in der Evangelischen Kirche
  im Gottesdienst aufgeführt.\n\nKontakt: Rosmarie Graf\, 071 931 24 29\n
 \nWeitere Infos: https://www.ref-toggenburg.ch/veranstaltung/19495
SUMMARY:Krippenspiel Probe
PRIORITY:5
X-MICROSOFT-CDO-IMPORTANCE:1
CLASS:PUBLIC
END:VEVENT
END:VCALENDAR
