BEGIN:VCALENDAR
PRODID:-//kirchenweb.ch gmbh//veranstaltungsausgabe v2.0//DE
VERSION:2.0
METHOD:PUBLISH
BEGIN:VEVENT
DTSTART:20250923T161500Z
DTEND:20250923T171500Z
LOCATION:Evangelische Kirche\, Raum "Himmel"\, \,
TRANSP:OPAQUE
SEQUENCE:0
UID:19502-veranstaltung@ref-toggenburg.ch
DTSTAMP:20250923T085451Z
DESCRIPTION:Kontakt: Brigitte Witzig\n\nWeitere Infos:
  https://www.ref-toggenburg.ch/veranstaltung/19502
SUMMARY:Vorbereitung Mitenand
PRIORITY:5
X-MICROSOFT-CDO-IMPORTANCE:1
CLASS:PUBLIC
END:VEVENT
END:VCALENDAR
