BEGIN:VCALENDAR
PRODID:-//kirchenweb.ch gmbh//veranstaltungsausgabe v2.0//DE
VERSION:2.0
METHOD:PUBLISH
BEGIN:VEVENT
DTSTART:20260905T070000Z
DTEND:20260905T150000Z
LOCATION:Kath. Pfarreiheim Kirchberg\, Husenstrasse 5\, 96533 Krichberg
TRANSP:OPAQUE
SEQUENCE:0
UID:19583-veranstaltung@ref-toggenburg.ch
DTSTAMP:20260414T114736Z
DESCRIPTION:Kontakt: Brigitte Witzig\n\nWeitere Infos:
  https://www.ref-toggenburg.ch/veranstaltung/19583
SUMMARY:Ökumenische Kinderbibeltage
PRIORITY:5
X-MICROSOFT-CDO-IMPORTANCE:1
CLASS:PUBLIC
END:VEVENT
END:VCALENDAR
