BEGIN:VCALENDAR
PRODID:-//kirchenweb.ch gmbh//veranstaltungsausgabe v2.0//DE
VERSION:2.0
METHOD:PUBLISH
BEGIN:VEVENT
DTSTART:20251023T070000Z
DTEND:20251023T080000Z
LOCATION:Sääli\, Rätenbergstrasse\, 12 Kirchberg
TRANSP:OPAQUE
SEQUENCE:0
UID:19586-veranstaltung@ref-toggenburg.ch
DTSTAMP:20251021T153951Z
DESCRIPTION:Kontakt: Michael Stübi\n\nWeitere Infos:
  https://www.ref-toggenburg.ch/veranstaltung/19586
SUMMARY:Probe
PRIORITY:5
X-MICROSOFT-CDO-IMPORTANCE:1
CLASS:PUBLIC
END:VEVENT
END:VCALENDAR
