BEGIN:VCALENDAR
PRODID:-//kirchenweb.ch gmbh//veranstaltungsausgabe v2.0//DE
VERSION:2.0
METHOD:PUBLISH
BEGIN:VEVENT
DTSTART:20260919T070000Z
DTEND:20260919T150000Z
LOCATION:Bahnhofplatz\, Bahnhofstrasse\, 9602 Bazenheid
TRANSP:OPAQUE
SEQUENCE:0
UID:19644-veranstaltung@ref-toggenburg.ch
DTSTAMP:20251030T122227Z
DESCRIPTION:Kontakt: Brigitte Witzig\, Diakonin\n\nWeitere Infos:
  https://www.ref-toggenburg.ch/veranstaltung/19644
SUMMARY:Evangelische Kirche am Jahrmarkt Bazenheid
PRIORITY:5
X-MICROSOFT-CDO-IMPORTANCE:1
CLASS:PUBLIC
END:VEVENT
END:VCALENDAR
