BEGIN:VCALENDAR
PRODID:-//kirchenweb.ch gmbh//veranstaltungsausgabe v2.0//DE
VERSION:2.0
METHOD:PUBLISH
BEGIN:VEVENT
DTSTART:20260530T163000Z
DTEND:20260530T190000Z
LOCATION:Evang. Kirche Kirchberg\, Rätenbergstrasse 12\, 9533 Kirchberg
TRANSP:OPAQUE
SEQUENCE:0
UID:19651-veranstaltung@ref-toggenburg.ch
DTSTAMP:20251031T144519Z
DESCRIPTION:Kontakt: Kathi Stiefel\n\nWeitere Infos:
  https://www.ref-toggenburg.ch/veranstaltung/19651
SUMMARY:TCK - Teenager Club Kirche
PRIORITY:5
X-MICROSOFT-CDO-IMPORTANCE:1
CLASS:PUBLIC
END:VEVENT
END:VCALENDAR
