BEGIN:VCALENDAR
PRODID:-//kirchenweb.ch gmbh//veranstaltungsausgabe v2.0//DE
VERSION:2.0
METHOD:PUBLISH
BEGIN:VEVENT
DTSTART;VALUE=DATE:20260906
DTEND;VALUE=DATE:20260907
LOCATION:Schwarzwald\, \,
TRANSP:OPAQUE
SEQUENCE:0
UID:19727-veranstaltung@ref-toggenburg.ch
DTSTAMP:20260122T152003Z
DESCRIPTION:Von Sonntag\, 6. – Samstag\, 12. September 2026\nim
  Schwarzwald\n\nFür die diesjährigen Seniorenferien fahren wir in den
  Schwarzwald. Die idyllischen Gegenden in nicht allzu weiter Entfernung
  von der Schweiz mit vielen Sehenswürdigkeiten laden ein zum Erholen\,
  Besichtigen und Geniessen. Ein wunderschönes Hotel ist gebucht. Wir
  reisen wiederum mit einem Car. Mit uns fahren wird Migg Oertle.\n\nDie
  Ausschreibung erfolgt im Mai.\n\nEin Angebot von Kath. Kirche
  Alttoggenburg\, Evang.-ref. Kirchgemeinde Kirchberg und \nGemeinde
  Kirchberg\n\n\n\nKontakt: OK Seniorenferien: Hans Egli\, Lussstrasse 6\,
  9534 Gähwil\, 079 449 94 33\n\nWeitere Infos:
  https://www.ref-toggenburg.ch/veranstaltung/19727
SUMMARY:Seniorenferien 2026 - 6. bis 12. September
PRIORITY:5
X-MICROSOFT-CDO-IMPORTANCE:1
CLASS:PUBLIC
END:VEVENT
END:VCALENDAR
