BEGIN:VCALENDAR
PRODID:-//kirchenweb.ch gmbh//veranstaltungsausgabe v2.0//DE
VERSION:2.0
METHOD:PUBLISH
BEGIN:VEVENT
DTSTART:20261024T080000Z
DTEND:20261024T090000Z
LOCATION:Evang. Kirchgemeindehaus Bazenheid\, Neugasse 8\, 9602 Bazenheid
TRANSP:OPAQUE
SEQUENCE:0
UID:19736-veranstaltung@ref-toggenburg.ch
DTSTAMP:20251127T125343Z
DESCRIPTION:Kontakt: Conny Keller\, Weidstrasse 5\, 9602 Bazenheid\, 079
  601 67 66\n\nWeitere Infos:
  https://www.ref-toggenburg.ch/veranstaltung/19736
SUMMARY:Ökumenische Chinderfiir Bazenheid
PRIORITY:5
X-MICROSOFT-CDO-IMPORTANCE:1
CLASS:PUBLIC
END:VEVENT
END:VCALENDAR
