BEGIN:VCALENDAR
PRODID:-//kirchenweb.ch gmbh//veranstaltungsausgabe v2.0//DE
VERSION:2.0
METHOD:PUBLISH
BEGIN:VEVENT
DTSTART:20260706T160000Z
DTEND:20260706T213000Z
LOCATION:Evang. Kirche Kirchberg\, Rätenbergstrasse 12\, 9533 Kirchberg
TRANSP:OPAQUE
SEQUENCE:0
UID:19845-veranstaltung@ref-toggenburg.ch
DTSTAMP:20260416T204642Z
DESCRIPTION:Kontakt: Präsidium der Kirchenvorsteherschaft\n\nWeitere
  Infos: https://www.ref-toggenburg.ch/veranstaltung/19845
SUMMARY:Sitzung Kirchenvorsteherschaft
PRIORITY:5
X-MICROSOFT-CDO-IMPORTANCE:1
CLASS:PUBLIC
END:VEVENT
END:VCALENDAR
