BEGIN:VCALENDAR
PRODID:-//kirchenweb.ch gmbh//veranstaltungsausgabe v2.0//DE
VERSION:2.0
METHOD:PUBLISH
BEGIN:VEVENT
DTSTART:20260217T183000Z
DTEND:20260217T200000Z
LOCATION:Evang. Kirche Kirchberg\, Rätenbergstrasse 12\, 9533 Kirchberg
  SG
TRANSP:OPAQUE
SEQUENCE:0
UID:20064-veranstaltung@ref-toggenburg.ch
DTSTAMP:20251128T103417Z
DESCRIPTION:Chorprobe\n\nKontakt: Michael Stübi\, Kirchenmusiker\,\n
 \nWeitere Infos: https://www.ref-toggenburg.ch/veranstaltung/20064
SUMMARY:Singtreff
PRIORITY:5
X-MICROSOFT-CDO-IMPORTANCE:1
CLASS:PUBLIC
END:VEVENT
END:VCALENDAR
