BEGIN:VCALENDAR
PRODID:-//kirchenweb.ch gmbh//veranstaltungsausgabe v2.0//DE
VERSION:2.0
METHOD:PUBLISH
BEGIN:VEVENT
DTSTART:20261119T124500Z
DTEND:20261119T160000Z
LOCATION:Pfarreizentrum Bazenheid\, Kirchgasse 11\, 9602 Bazenheid
TRANSP:OPAQUE
SEQUENCE:0
UID:20467-veranstaltung@ref-toggenburg.ch
DTSTAMP:20251211T123227Z
DESCRIPTION:Kontakt: Ökumenische Seniorengruppe\, Jolanda Brunschwiler\n
 \nWeitere Infos: https://www.ref-toggenburg.ch/veranstaltung/20467
SUMMARY:Singen mit Karl Fässler
PRIORITY:5
X-MICROSOFT-CDO-IMPORTANCE:1
CLASS:PUBLIC
END:VEVENT
END:VCALENDAR
