BEGIN:VCALENDAR
PRODID:-//kirchenweb.ch gmbh//veranstaltungsausgabe v2.0//DE
VERSION:2.0
METHOD:PUBLISH
BEGIN:VEVENT
DTSTART:20260507T120000Z
DTEND:20260507T150000Z
LOCATION:Restaurant Bären\, Bahnhofstrasse 2\, 9602 Bazenheid
TRANSP:OPAQUE
SEQUENCE:0
UID:20469-veranstaltung@ref-toggenburg.ch
DTSTAMP:20251211T123652Z
DESCRIPTION:Kontakt: Ökumenische Seniorengruppe\, Jolanda Brunschwiler
  071 931 13 24\n\nWeitere Infos:
  https://www.ref-toggenburg.ch/veranstaltung/20469
SUMMARY:Kaffeehöck im Restaurant Bären
PRIORITY:5
X-MICROSOFT-CDO-IMPORTANCE:1
CLASS:PUBLIC
END:VEVENT
END:VCALENDAR
