BEGIN:VCALENDAR
PRODID:-//kirchenweb.ch gmbh//veranstaltungsausgabe v2.0//DE
VERSION:2.0
METHOD:PUBLISH
BEGIN:VEVENT
DTSTART:20260702T120000Z
DTEND:20260702T150000Z
LOCATION:Rosenau\, Bazenheid\, Spelterinistr. 8\, 9602 Bazenheid
TRANSP:OPAQUE
SEQUENCE:0
UID:20470-veranstaltung@ref-toggenburg.ch
DTSTAMP:20251211T123716Z
DESCRIPTION:Kontakt: Ökumenische Seniorengruppe\, Jolanda Brunschwiler
  071 931 13 24\n\nWeitere Infos:
  https://www.ref-toggenburg.ch/veranstaltung/20470
SUMMARY:Kaffeehöck im Café Tertianum
PRIORITY:5
X-MICROSOFT-CDO-IMPORTANCE:1
CLASS:PUBLIC
END:VEVENT
END:VCALENDAR
