BEGIN:VCALENDAR
PRODID:-//kirchenweb.ch gmbh//veranstaltungsausgabe v2.0//DE
VERSION:2.0
METHOD:PUBLISH
BEGIN:VEVENT
DTSTART:20260423T120000Z
DTEND:20260423T150000Z
LOCATION:Evang. Kirchgemeindehaus Bazenheid\, Neugasse 8\, 9602 Bazenheid
TRANSP:OPAQUE
SEQUENCE:0
UID:20471-veranstaltung@ref-toggenburg.ch
DTSTAMP:20251211T142427Z
DESCRIPTION:Mit Kaffee und Kuchen\n\nKontakt: Ökumenische
  Seniorengruppe\,  Pia Forrer und Myrtha Rohner\n\nWeitere Infos:
  https://www.ref-toggenburg.ch/veranstaltung/20471
SUMMARY:Spiel- und Jassnachmittag
PRIORITY:5
X-MICROSOFT-CDO-IMPORTANCE:1
CLASS:PUBLIC
END:VEVENT
END:VCALENDAR
