BEGIN:VCALENDAR
PRODID:-//kirchenweb.ch gmbh//veranstaltungsausgabe v2.0//DE
VERSION:2.0
METHOD:PUBLISH
BEGIN:VEVENT
DTSTART:20261112T130000Z
DTEND:20261112T160000Z
LOCATION:Evang. Kirchgemeindehaus Bazenheid\, Neugasse 8\, 9602 Bazenheid
TRANSP:OPAQUE
SEQUENCE:0
UID:20473-veranstaltung@ref-toggenburg.ch
DTSTAMP:20251211T142438Z
DESCRIPTION:Mit Kaffee und Kuchen\n\nKontakt: Ökumenische
  Seniorengruppe\,  Pia Forrer und Myrtha Rohner\n\nWeitere Infos:
  https://www.ref-toggenburg.ch/veranstaltung/20473
SUMMARY:Spiel- und Jassnachmittag
PRIORITY:5
X-MICROSOFT-CDO-IMPORTANCE:1
CLASS:PUBLIC
END:VEVENT
END:VCALENDAR
