BEGIN:VCALENDAR
PRODID:-//kirchenweb.ch gmbh//veranstaltungsausgabe v2.0//DE
VERSION:2.0
METHOD:PUBLISH
BEGIN:VEVENT
DTSTART:20260827T120000Z
DTEND:20260827T130000Z
LOCATION:Wil\,  Zürcherstrasse 30\, 9500 Wil
TRANSP:OPAQUE
SEQUENCE:0
UID:20474-veranstaltung@ref-toggenburg.ch
DTSTAMP:20251211T125418Z
DESCRIPTION:auf dem Areal der Psychiatrischen Klinik\nAnreise: Mit dem
  Auto zum Parkplatz bei der Minigolfanlage auf dem Areal der Klinik Wil.
 \nMit dem ÖV: 13.21 Uhr ab Bazenheid /  13.07 Uhr ab Kirchberg\n\n\n\n
 \nKontakt: Ökumenische Seniorengruppe\, Jolanda Brunschwiler\, 071 931 13
  24 / 078 733 30 78\n \n\n\nWeitere Infos:
  https://www.ref-toggenburg.ch/veranstaltung/20474
SUMMARY:Minigolf Wil
PRIORITY:5
X-MICROSOFT-CDO-IMPORTANCE:1
CLASS:PUBLIC
END:VEVENT
END:VCALENDAR
