BEGIN:VCALENDAR
PRODID:-//kirchenweb.ch gmbh//veranstaltungsausgabe v2.0//DE
VERSION:2.0
METHOD:PUBLISH
BEGIN:VEVENT
DTSTART:20261203T130000Z
DTEND:20261203T150000Z
LOCATION:Evang. Kirchgemeindehaus Bazenheid\, Neugasse 8\, 9602 Bazenheid
TRANSP:OPAQUE
SEQUENCE:0
UID:20476-veranstaltung@ref-toggenburg.ch
DTSTAMP:20260325T160651Z
DESCRIPTION:Kontakt: Ökumenische Seniorengruppe\, Anita Furrer\, 071 931
  48 46 / 079 582 46 36\nPia Forrer\, 079 712 43 52\n\nWeitere Infos:
  https://www.ref-toggenburg.ch/veranstaltung/20476
SUMMARY:Ökumenischer Adventsnachmittag
PRIORITY:5
X-MICROSOFT-CDO-IMPORTANCE:1
CLASS:PUBLIC
END:VEVENT
END:VCALENDAR
