BEGIN:VCALENDAR
PRODID:-//kirchenweb.ch gmbh//veranstaltungsausgabe v2.0//DE
VERSION:2.0
METHOD:PUBLISH
BEGIN:VEVENT
DTSTART;VALUE=DATE:20260528
DTEND;VALUE=DATE:20260529
LOCATION:Schaffhausen Siblinger Randen\, \,
TRANSP:OPAQUE
SEQUENCE:0
UID:20477-veranstaltung@ref-toggenburg.ch
DTSTAMP:20260416T121947Z
DESCRIPTION:Programm und Anmeldetalon sind in beiden Kirchen aufgelegt und
  zusätzlich im Anhang zum Herunterladen beigefügt.  \n\nAnmeldeschluss:
  15. Mai 2026\n\nKontakt: Ökumenische Seniorengruppe\, Marta Baumgartner
  071 931 36 56 / Mobil 078 628 21 44\n\n\nWeitere Infos:
  https://www.ref-toggenburg.ch/veranstaltung/20477
SUMMARY:Tagesausflug Senioren
PRIORITY:5
X-MICROSOFT-CDO-IMPORTANCE:1
CLASS:PUBLIC
END:VEVENT
END:VCALENDAR
