BEGIN:VCALENDAR
PRODID:-//kirchenweb.ch gmbh//veranstaltungsausgabe v2.0//DE
VERSION:2.0
METHOD:PUBLISH
BEGIN:VEVENT
DTSTART;VALUE=DATE:20260625
DTEND;VALUE=DATE:20260626
LOCATION:wird noch bekannt gegeben\, \,
TRANSP:OPAQUE
SEQUENCE:0
UID:20479-veranstaltung@ref-toggenburg.ch
DTSTAMP:20251211T133629Z
DESCRIPTION:Das Programm kann an den vorgängigen Veranstaltungen oder bei
  Hansueli Hausamman 079 523 26 89 und Jolanda Brunschwiler 071 931 13 24
  bezogen werden. Es liegt auch in beiden Kirchen auf. \n\nVerschiebedatum:
  30.06.2026\n\nKontakt: Ökumenische Seniorengruppe\, Hansueli
  Hausammann\, 079 523 26 89\n\n\nWeitere Infos:
  https://www.ref-toggenburg.ch/veranstaltung/20479
SUMMARY:Tageswanderung
PRIORITY:5
X-MICROSOFT-CDO-IMPORTANCE:1
CLASS:PUBLIC
END:VEVENT
END:VCALENDAR
