BEGIN:VCALENDAR
PRODID:-//kirchenweb.ch gmbh//veranstaltungsausgabe v2.0//DE
VERSION:2.0
METHOD:PUBLISH
BEGIN:VEVENT
DTSTART:20260924T110000Z
DTEND:20260924T160000Z
LOCATION:wird noch bekannt gegeben\, \,
TRANSP:OPAQUE
SEQUENCE:0
UID:20481-veranstaltung@ref-toggenburg.ch
DTSTAMP:20251211T133003Z
DESCRIPTION:Das Proramm kann an den vorgängigen Veranstaltungen\, bei
  Hansueli Hausammann und Jolanda Brunschwiler bezogen werden. Es ist auch
  in beiden Kirchen aufgelegt. \n\nVerschiebedatum: 29.09.2026\n\nKontakt:
  Ökumenische Seniorengruppe\, Hansueli Hausammann\n079 523 26 89\n\n
 \nWeitere Infos: https://www.ref-toggenburg.ch/veranstaltung/20481
SUMMARY:Nachmittagswanderung
PRIORITY:5
X-MICROSOFT-CDO-IMPORTANCE:1
CLASS:PUBLIC
END:VEVENT
END:VCALENDAR
