BEGIN:VCALENDAR
PRODID:-//kirchenweb.ch gmbh//veranstaltungsausgabe v2.0//DE
VERSION:2.0
METHOD:PUBLISH
BEGIN:VEVENT
DTSTART:20260509T070000Z
DTEND:20260509T090000Z
LOCATION:Evangelische Kirche\, Raum "Himmel"\, Rätenbergstrasse 12\, 9533
  Kirchberg
TRANSP:OPAQUE
SEQUENCE:0
UID:20553-veranstaltung@ref-toggenburg.ch
DTSTAMP:20260310T085052Z
DESCRIPTION:Für Kinder bis zur 4. Klasse.\nWir treffen uns im Kreis\,
  hören biblische und andere Geschichten und essen gemeinsam Znüni.
  Basteln\, Zeichnen und Spielen gehören ebenfalls dazu. Die Geschichten
  der Bibel werden kindergerecht umgesetzt und mit allen Sinnen erlebt. So
  macht Kirche Spass.\nDer KiKi Treff ist eine Gottesdienstform mit viel
  Fröhlichkeit und Bewegung.\n\nKontakt: Rosmarie Graf\, 071 931 24 29\n
 \nWeitere Infos: https://www.ref-toggenburg.ch/veranstaltung/20553
SUMMARY:KiKi Treff Basteln für Muttertag
PRIORITY:5
X-MICROSOFT-CDO-IMPORTANCE:1
CLASS:PUBLIC
END:VEVENT
END:VCALENDAR
