BEGIN:VCALENDAR
PRODID:-//kirchenweb.ch gmbh//veranstaltungsausgabe v2.0//DE
VERSION:2.0
METHOD:PUBLISH
BEGIN:VEVENT
DTSTART:20260407T103000Z
DTEND:20260407T120000Z
LOCATION:Restaurant Rössli Gähwil\, \,
TRANSP:OPAQUE
SEQUENCE:0
UID:20566-veranstaltung@ref-toggenburg.ch
DTSTAMP:20260305T125621Z
DESCRIPTION:Anmeldung bis Montag\, 10 Uhr bei Ursula Holenstein\, 079 519
  92 28 oder Claudia Rohrer\, 071 931 53 94.\n\nKontakt: Ursula
  Holenstein\, 079 519 92 28\nClaudia Rohrer\, 071 931 53 94\n\nWeitere
  Infos: https://www.ref-toggenburg.ch/veranstaltung/20566
SUMMARY:Seniorenzmittag für Gähwil
PRIORITY:5
X-MICROSOFT-CDO-IMPORTANCE:1
CLASS:PUBLIC
END:VEVENT
END:VCALENDAR
