BEGIN:VCALENDAR
PRODID:-//kirchenweb.ch gmbh//veranstaltungsausgabe v2.0//DE
VERSION:2.0
METHOD:PUBLISH
BEGIN:VEVENT
DTSTART:20260919T080000Z
DTEND:20260919T090000Z
LOCATION:Kapelle Dietschwil\, \, 9533 Dietschwil
TRANSP:OPAQUE
SEQUENCE:0
UID:20691-veranstaltung@ref-toggenburg.ch
DTSTAMP:20260116T071044Z
DESCRIPTION:Kontakt: Claudia Kümin\, +41 79 683 82 65\,
  claudia.kuemin@kath-alttoggenburg.ch\n\nWeitere Infos:
  https://www.ref-toggenburg.ch/veranstaltung/20691
SUMMARY:Ökumenische Chinderfiir Gähwil/Kirchberg
PRIORITY:5
X-MICROSOFT-CDO-IMPORTANCE:1
CLASS:PUBLIC
END:VEVENT
END:VCALENDAR
