BEGIN:VCALENDAR
PRODID:-//kirchenweb.ch gmbh//veranstaltungsausgabe v2.0//DE
VERSION:2.0
METHOD:PUBLISH
BEGIN:VEVENT
DTSTART:20260623T173000Z
DTEND:20260623T190000Z
LOCATION:Evang. Kirche Kirchberg\, Rätenbergstrasse 12\, 9533 Kirchberg
  SG
TRANSP:OPAQUE
SEQUENCE:0
UID:20954-veranstaltung@ref-toggenburg.ch
DTSTAMP:20260305T180329Z
DESCRIPTION:Chorprobe\n\nKontakt: Michael Stübi\, Kirchenmusiker\,\n
 \nWeitere Infos: https://www.ref-toggenburg.ch/veranstaltung/20954
SUMMARY:Singtreff
PRIORITY:5
X-MICROSOFT-CDO-IMPORTANCE:1
CLASS:PUBLIC
END:VEVENT
END:VCALENDAR
