BEGIN:VCALENDAR
PRODID:-//kirchenweb.ch gmbh//veranstaltungsausgabe v2.0//DE
VERSION:2.0
METHOD:PUBLISH
BEGIN:VEVENT
DTSTART:20260402T150000Z
DTEND:20260402T170000Z
LOCATION:Evang. Kirche Kirchberg\, Säli\, \,
TRANSP:OPAQUE
SEQUENCE:0
UID:20998-veranstaltung@ref-toggenburg.ch
DTSTAMP:20260316T075307Z
DESCRIPTION:Hilf mit beim Eierfärben für den Osterzmorge!\n\nKontakt:
  kathi.stiefel@refkirchberg.ch\n\nWeitere Infos:
  https://www.ref-toggenburg.ch/veranstaltung/20998
SUMMARY:Eierfärben
PRIORITY:5
X-MICROSOFT-CDO-IMPORTANCE:1
CLASS:PUBLIC
END:VEVENT
END:VCALENDAR
