BEGIN:VCALENDAR
PRODID:-//kirchenweb.ch gmbh//veranstaltungsausgabe v2.0//DE
VERSION:2.0
METHOD:PUBLISH
BEGIN:VEVENT
DTSTART:20260830T080000Z
DTEND:20260830T150000Z
LOCATION:Kirchgemeindehaus\, Neugasse 8\, 9602 Bazenheid
TRANSP:OPAQUE
SEQUENCE:0
UID:21087-veranstaltung@ref-toggenburg.ch
DTSTAMP:20260414T135508Z
DESCRIPTION:Wir singen in Bazenheid im Gottesdienst\, geniessen den
  Kirchenkaffee und fahren nach Wildhaus an den Schwendisee. Dort sind wir
  zu Gast bei Stumps Alpenrose\, geniessen den Schwendisee und besuchen das
  Klanghaus Toggenburg.\n\nKontakt: Michael Stübi\n\nWeitere Infos:
  https://www.ref-toggenburg.ch/veranstaltung/21087
SUMMARY:Singtreff Ausflug
PRIORITY:5
X-MICROSOFT-CDO-IMPORTANCE:1
CLASS:PUBLIC
END:VEVENT
END:VCALENDAR
