BEGIN:VCALENDAR
PRODID:-//kirchenweb.ch gmbh//veranstaltungsausgabe v2.0//DE
VERSION:2.0
METHOD:PUBLISH
BEGIN:VEVENT
DTSTART:20260827T140000Z
DTEND:20260827T160000Z
LOCATION:Evang. Kirche Kirchberg \, \, 9533 Kirchberg
TRANSP:OPAQUE
SEQUENCE:0
UID:21093-veranstaltung@ref-toggenburg.ch
DTSTAMP:20260324T165254Z
DESCRIPTION:Kontakt: martin.schweizer@refkirchberg.ch\n\nWeitere Infos:
  https://www.ref-toggenburg.ch/veranstaltung/21093
SUMMARY:Ökumenische Sitzung
PRIORITY:5
X-MICROSOFT-CDO-IMPORTANCE:1
CLASS:PUBLIC
END:VEVENT
END:VCALENDAR
