BEGIN:VCALENDAR
PRODID:-//kirchenweb.ch gmbh//veranstaltungsausgabe v2.0//DE
VERSION:2.0
METHOD:PUBLISH
BEGIN:VEVENT
DTSTART:20261201T160000Z
DTEND:20261201T173000Z
LOCATION:Evangelisches Kirchgemeindehaus Bazenheid\, Neugasse 8\, 9602
  Bazenheid
TRANSP:OPAQUE
SEQUENCE:0
UID:21139-veranstaltung@ref-toggenburg.ch
DTSTAMP:20260327T141507Z
DESCRIPTION:Die ev.-ref. Kirchgemeinde eröffnet  am Dienstagabend 1.
  Dezember um 17 Uhr das 1. Fenster in Bazenheid. Der Singtreff lädt die
  Bevölkerung zum Adventssingen ein. Es gibt etwas zu essen und zu
  trinken.\n\nKontakt: Michael Stübi\n\nWeitere Infos:
  https://www.ref-toggenburg.ch/veranstaltung/21139
SUMMARY:Adventssingen mit Singtreff
PRIORITY:5
X-MICROSOFT-CDO-IMPORTANCE:1
CLASS:PUBLIC
END:VEVENT
END:VCALENDAR
