BEGIN:VCALENDAR
PRODID:-//kirchenweb.ch gmbh//veranstaltungsausgabe v2.0//DE
VERSION:2.0
METHOD:PUBLISH
BEGIN:VEVENT
DTSTART:20261117T183000Z
DTEND:20261117T200000Z
LOCATION:Evang. Kirchgemeindehaus Bazenheid \, Neugasse 8\, 9602 Bazenheid
TRANSP:OPAQUE
SEQUENCE:0
UID:21140-veranstaltung@ref-toggenburg.ch
DTSTAMP:20260327T141631Z
DESCRIPTION:Innert 6 Proben üben wir Lieder ein\, die am
  Heiligabendgottesdienst um 16:30 Uhr aufgeführt werden.\n\nKontakt:
  Michael Stübi\, Kirchenmusiker\,\n\nWeitere Infos:
  https://www.ref-toggenburg.ch/veranstaltung/21140
SUMMARY:Singprojekt "Jedes Kind braucht einen Engel"
PRIORITY:5
X-MICROSOFT-CDO-IMPORTANCE:1
CLASS:PUBLIC
END:VEVENT
END:VCALENDAR
