BEGIN:VCALENDAR
PRODID:-//kirchenweb.ch gmbh//veranstaltungsausgabe v2.0//DE
VERSION:2.0
METHOD:PUBLISH
BEGIN:VEVENT
DTSTART:20260605T160000Z
DTEND:20260605T200000Z
LOCATION:Auf dem Platz vor dem Kirchenkeller\, Rätenbergstrasse 12\, 9533
  Kirchberg SG
TRANSP:OPAQUE
SEQUENCE:0
UID:21248-veranstaltung@ref-toggenburg.ch
DTSTAMP:20260421T125352Z
DESCRIPTION:Zusammen den Feierabend geniessen mit Musik\, Grill und Drinks
  vor dem Kirchenkeller.\nBeginn 18 Uhr\, Konzert Southbound Steve 19:30
  Uhr\, offizieller Schluss 22 Uhr.\n\nKontakt: Michael Stübi\n\nWeitere
  Infos: https://www.ref-toggenburg.ch/veranstaltung/21248
SUMMARY:zämä fiirobig
PRIORITY:5
X-MICROSOFT-CDO-IMPORTANCE:1
CLASS:PUBLIC
END:VEVENT
END:VCALENDAR
