BEGIN:VCALENDAR
PRODID:-//kirchenweb.ch gmbh//veranstaltungsausgabe v2.0//DE
VERSION:2.0
METHOD:PUBLISH
BEGIN:VEVENT
DTSTART:20260529T140000Z
DTEND:20260529T144000Z
LOCATION:Rosenau\, Bazenheid\, Spelterinistrasse 8\, 9602 Bazenheid
TRANSP:OPAQUE
SEQUENCE:0
UID:21258-veranstaltung@ref-toggenburg.ch
DTSTAMP:20260420T082424Z
DESCRIPTION:Kontakt: Evang. Pfarramt\n\nWeitere Infos:
  https://www.ref-toggenburg.ch/veranstaltung/21258
SUMMARY:Gottesdienst in der Rosenau
PRIORITY:5
X-MICROSOFT-CDO-IMPORTANCE:1
CLASS:PUBLIC
END:VEVENT
END:VCALENDAR
